BEGIN:VCALENDAR
VERSION:2.0
PRODID:-//Columbus Bassmasters - ECPv6.15.20//NONSGML v1.0//EN
CALSCALE:GREGORIAN
METHOD:PUBLISH
X-WR-CALNAME:Columbus Bassmasters
X-ORIGINAL-URL:https://columbusbassmasters.net
X-WR-CALDESC:Events for Columbus Bassmasters
REFRESH-INTERVAL;VALUE=DURATION:PT1H
X-Robots-Tag:noindex
X-PUBLISHED-TTL:PT1H
BEGIN:VTIMEZONE
TZID:UTC
BEGIN:STANDARD
TZOFFSETFROM:+0000
TZOFFSETTO:+0000
TZNAME:UTC
DTSTART:20250101T000000
END:STANDARD
END:VTIMEZONE
BEGIN:VEVENT
DTSTART;TZID=UTC:20260708T183000
DTEND;TZID=UTC:20260708T193000
DTSTAMP:20260425T224050
CREATED:20251219T124948Z
LAST-MODIFIED:20260324T014151Z
UID:11264-1783535400-1783539000@columbusbassmasters.net
SUMMARY:Club Meeting - Middle West Spirits
DESCRIPTION:
URL:https://columbusbassmasters.net/event/club-meeting-10/
LOCATION:Middle West Spirits\, 1221 Alum Creek Dr\, Columbus\, OH\, 43209
END:VEVENT
BEGIN:VEVENT
DTSTART;VALUE=DATE:20260711
DTEND;VALUE=DATE:20260712
DTSTAMP:20260425T224050
CREATED:20260204T143314Z
LAST-MODIFIED:20260216T025351Z
UID:11310-1783728000-1783814399@columbusbassmasters.net
SUMMARY:CBM - Seneca Lake (Seneca Launch Ramp)
DESCRIPTION:
URL:https://columbusbassmasters.net/event/cbm-seneca-lake/
END:VEVENT
BEGIN:VEVENT
DTSTART;VALUE=DATE:20260725
DTEND;VALUE=DATE:20260726
DTSTAMP:20260425T224050
CREATED:20260204T144647Z
LAST-MODIFIED:20260204T144647Z
UID:11322-1784937600-1785023999@columbusbassmasters.net
SUMMARY:OBF State Championship - Lake Erie
DESCRIPTION:
URL:https://columbusbassmasters.net/event/obf-state-championship-lake-erie/
END:VEVENT
BEGIN:VEVENT
DTSTART;VALUE=DATE:20260726
DTEND;VALUE=DATE:20260727
DTSTAMP:20260425T224050
CREATED:20260204T144709Z
LAST-MODIFIED:20260204T144709Z
UID:11324-1785024000-1785110399@columbusbassmasters.net
SUMMARY:OBF State Championship - Lake Erie
DESCRIPTION:
URL:https://columbusbassmasters.net/event/obf-state-championship-lake-erie-2/
END:VEVENT
END:VCALENDAR