BEGIN:VCALENDAR
VERSION:2.0
PRODID:-//Columbus Bassmasters - ECPv6.15.20//NONSGML v1.0//EN
CALSCALE:GREGORIAN
METHOD:PUBLISH
X-WR-CALNAME:Columbus Bassmasters
X-ORIGINAL-URL:https://columbusbassmasters.net
X-WR-CALDESC:Events for Columbus Bassmasters
REFRESH-INTERVAL;VALUE=DURATION:PT1H
X-Robots-Tag:noindex
X-PUBLISHED-TTL:PT1H
BEGIN:VTIMEZONE
TZID:UTC
BEGIN:STANDARD
TZOFFSETFROM:+0000
TZOFFSETTO:+0000
TZNAME:UTC
DTSTART:20250101T000000
END:STANDARD
END:VTIMEZONE
BEGIN:VEVENT
DTSTART;TZID=UTC:20260207T070000
DTEND;TZID=UTC:20260207T160000
DTSTAMP:20260425T214817
CREATED:20260112T130421Z
LAST-MODIFIED:20260205T020009Z
UID:11290-1770447600-1770480000@columbusbassmasters.net
SUMMARY:Ohio Bass Federation Meeting
DESCRIPTION:Delaware Shooting Range\n1110 OH-229\, Ashley\, OH 43003\nOptional $20 luncheon (RSVP Required)
URL:https://columbusbassmasters.net/event/ohio-bass-federation-meeting/
END:VEVENT
BEGIN:VEVENT
DTSTART;TZID=UTC:20260211T183000
DTEND;TZID=UTC:20260211T193000
DTSTAMP:20260425T214817
CREATED:20251219T124126Z
LAST-MODIFIED:20251219T124126Z
UID:11244-1770834600-1770838200@columbusbassmasters.net
SUMMARY:Club Meeting
DESCRIPTION:
URL:https://columbusbassmasters.net/event/club-meeting/
END:VEVENT
BEGIN:VEVENT
DTSTART;TZID=UTC:20260221T173000
DTEND;TZID=UTC:20260221T193000
DTSTAMP:20260425T214817
CREATED:20251113T200505Z
LAST-MODIFIED:20251219T123140Z
UID:11226-1771695000-1771702200@columbusbassmasters.net
SUMMARY:Club Banquet at Draft Day Columbus
DESCRIPTION:1130 Dublin Road\, Columbus OH
URL:https://columbusbassmasters.net/event/club-banquet-at-draft-day-columbus/
END:VEVENT
BEGIN:VEVENT
DTSTART;TZID=UTC:20260222T130000
DTEND;TZID=UTC:20260222T170000
DTSTAMP:20260425T214817
CREATED:20260204T145131Z
LAST-MODIFIED:20260204T145131Z
UID:11332-1771765200-1771779600@columbusbassmasters.net
SUMMARY:Youth Bait Making
DESCRIPTION:Johnstown Sportsmen Club 7357 Sportsman Club Rd NW\, Johnstown\, Ohio
URL:https://columbusbassmasters.net/event/youth-bait-making/
END:VEVENT
END:VCALENDAR